BEGIN:VCALENDAR
VERSION:2.0
PRODID:-//www.bonsaiclub-steiermark.at//NONSGML kigkonsult.se iCalcreator 2.41.92//
CALSCALE:GREGORIAN
METHOD:PUBLISH
UID:39326332-3363-4465-a630-656536333332
X-WR-CALNAME:iCagenda
X-WR-CALDESC:Event Management Extension for Joomla!
X-WR-RELCALID:3E26604A-50F4-4449-8B3E-E4F4932D05B5
X-WR-TIMEZONE:Europe/Vienna
BEGIN:VTIMEZONE
TZID:Europe/Vienna
TZUNTIL:20230326T010000Z
BEGIN:STANDARD
TZNAME:CET
DTSTART:20201025T030000
TZOFFSETFROM:+0200
TZOFFSETTO:+0100
RDATE:20211031T030000
RDATE:20221030T030000
END:STANDARD
BEGIN:DAYLIGHT
TZNAME:CEST
DTSTART:20210328T020000
TZOFFSETFROM:+0100
TZOFFSETTO:+0200
RDATE:20220327T020000
END:DAYLIGHT
END:VTIMEZONE
BEGIN:VEVENT
UID:31396538-3262-4034-b664-343262303637
DTSTAMP:20260420T112507Z
CATEGORIES:Clubabend
CLASS:PUBLIC
DESCRIPTION;ALTREP="CID:<FFFF__=0ABBE548DFE235B58f9e8a93d@coffeebean.com>":
 Erstes Clubtreffen seit Beginn der Pandemie. Wie immer steht das gesellige
  Beisammensein und die Arbeit an Bäumen an der Tagesordnung.\nTeilnahmevor
 aussetzung sind die 3G und daher nur als\n\nGeimpfter\nGenesener\noder neg
 ativ getesteter\n\nmöglich.
DTSTART:20210618T140000Z
DTEND:20210618T200000Z
GEO:00;0
LOCATION:Garten Hans Hödl
ORGANIZER:
SEQUENCE:1
SUMMARY:Clubtreffen
TRANSP:OPAQUE
URL:https://www.bonsaiclub-steiermark.at/index.php/events/eventarchiv/94-cl
 ubtreffen
END:VEVENT
END:VCALENDAR
