BEGIN:VCALENDAR
VERSION:2.0
PRODID:-//www.bonsaiclub-steiermark.at//NONSGML kigkonsult.se iCalcreator 2.41.92//
CALSCALE:GREGORIAN
METHOD:PUBLISH
UID:31343766-3031-4564-b539-306463376531
X-WR-CALNAME:iCagenda
X-WR-CALDESC:Event Management Extension for Joomla!
X-WR-RELCALID:3E26604A-50F4-4449-8B3E-E4F4932D05B5
X-WR-TIMEZONE:Europe/Vienna
BEGIN:VTIMEZONE
TZID:Europe/Vienna
TZUNTIL:20221030T010000Z
BEGIN:STANDARD
TZNAME:CET
DTSTART:20201025T030000
TZOFFSETFROM:+0200
TZOFFSETTO:+0100
RDATE:20211031T030000
END:STANDARD
BEGIN:DAYLIGHT
TZNAME:CEST
DTSTART:20200329T020000
TZOFFSETFROM:+0100
TZOFFSETTO:+0200
RDATE:20210328T020000
RDATE:20220327T020000
END:DAYLIGHT
END:VTIMEZONE
BEGIN:VEVENT
UID:32623234-3135-4666-a362-376433643562
DTSTAMP:20260422T174416Z
CATEGORIES:Einsteiger Workshop
CLASS:PUBLIC
DESCRIPTION;ALTREP="CID:<FFFF__=0ABBE548DFE235B58f9e8a93d@coffeebean.com>":
 Für alle die es schon in den Fingern 'juckt' etwas an ihren Bäumen zu mach
 en:\n\nBäume vor dem Austrocknen schützen - manche Bäume beginnen Bereits 
 aktiv zu werden (Knospen beginnen zu wachsen)\nTotholz bearbeiten\, konser
 vieren\nWacholder können jetzt auch schon bearbeitet werden\nDie Umtopfzei
 t kommt bestimmt - Bonsai Substrate besorgen und sieben\nWerkzeugpflege - 
 geht zwar das Ganze Jahr über - aber auf alle Fälle Werkzeug vor dem Frühj
 ahr wieder mal säubern und desinfizieren\n\nGenerell nach intensiveren Ges
 taltungen die Bäume frostfrei stellen.
DTSTART:20210131T230000Z
DTEND:20210228T220000Z
GEO:00;0
LOCATION:
ORGANIZER:
SEQUENCE:1
SUMMARY:Bonsai Monat Februar
TRANSP:OPAQUE
URL:https://www.bonsaiclub-steiermark.at/index.php/events/eventarchiv/93-bo
 nsai-monat-februar
END:VEVENT
END:VCALENDAR
