BEGIN:VCALENDAR
VERSION:2.0
PRODID:-//www.bonsaiclub-steiermark.at//NONSGML kigkonsult.se iCalcreator 2.41.92//
CALSCALE:GREGORIAN
METHOD:PUBLISH
UID:61396539-3164-4964-b961-353362336365
X-WR-CALNAME:iCagenda
X-WR-CALDESC:Event Management Extension for Joomla!
X-WR-RELCALID:3E26604A-50F4-4449-8B3E-E4F4932D05B5
X-WR-TIMEZONE:Europe/Vienna
BEGIN:VTIMEZONE
TZID:Europe/Vienna
TZUNTIL:20241027T010000Z
BEGIN:STANDARD
TZNAME:CET
DTSTART:20221030T030000
TZOFFSETFROM:+0200
TZOFFSETTO:+0100
RDATE:20231029T030000
END:STANDARD
BEGIN:DAYLIGHT
TZNAME:CEST
DTSTART:20220327T020000
TZOFFSETFROM:+0100
TZOFFSETTO:+0200
RDATE:20230326T020000
RDATE:20240331T020000
END:DAYLIGHT
END:VTIMEZONE
BEGIN:VEVENT
UID:62386134-3361-4633-b431-373832323962
DTSTAMP:20260424T104645Z
CATEGORIES:Ausstellung
CLASS:PUBLIC
DESCRIPTION;ALTREP="CID:<FFFF__=0ABBE548DFE235B58f9e8a93d@coffeebean.com>":
 https://www.facebook.com/The-Trophy-by-Bonsai-Association-Belgium-10554070
 0983604/\nThe Trophy 2023 - Europas größte Bonsaiausstellung\nInternationa
 l BONSAI show• Größte europäische Bonsai-AusstellungBonsai\, Kifu &amp\; S
 hohin• Sonderausstellung derNippon Bonsai Sakka Kyookai Europe• Sonderprei
 s für den Besten Fukinagashi• Sonderausstellung von Suiseki undexklusiven 
 Bonsai-Schalen• Belgischer Entscheid desEBA New Talent contest• 4300 m2 In
 door-Händlerbereich
DTSTART:20230225T090000Z
DTEND:20230226T170000Z
GEO:00;0
LOCATION:Limburghal c.v.\, Jaarbeurslaan 6\, B-3600 Genk\, Belgien
ORGANIZER:
SEQUENCE:1
SUMMARY:The Trophy 2023
TRANSP:OPAQUE
URL:https://www.bonsaiclub-steiermark.at/index.php/events/eventarchiv/92-th
 e-trophy-2023
END:VEVENT
END:VCALENDAR
