BEGIN:VCALENDAR
VERSION:2.0
PRODID:-//www.bonsaiclub-steiermark.at//NONSGML kigkonsult.se iCalcreator 2.41.92//
CALSCALE:GREGORIAN
METHOD:PUBLISH
UID:35343864-3731-4030-b633-373034343365
X-WR-CALNAME:iCagenda
X-WR-CALDESC:Event Management Extension for Joomla!
X-WR-RELCALID:3E26604A-50F4-4449-8B3E-E4F4932D05B5
X-WR-TIMEZONE:Europe/Vienna
BEGIN:VTIMEZONE
TZID:Europe/Vienna
TZUNTIL:20211031T010000Z
BEGIN:STANDARD
TZNAME:CET
DTSTART:20191027T030000
TZOFFSETFROM:+0200
TZOFFSETTO:+0100
RDATE:20201025T030000
END:STANDARD
BEGIN:DAYLIGHT
TZNAME:CEST
DTSTART:20190331T020000
TZOFFSETFROM:+0100
TZOFFSETTO:+0200
RDATE:20200329T020000
RDATE:20210328T020000
END:DAYLIGHT
END:VTIMEZONE
BEGIN:VEVENT
UID:33623361-3465-4532-b536-326633333134
DTSTAMP:20260420T112537Z
CATEGORIES:Clubabend
CLASS:PUBLIC
DESCRIPTION;ALTREP="CID:<FFFF__=0ABBE548DFE235B58f9e8a93d@coffeebean.com>":
 Tagesordnung:\n\nBegrüßung\nFeststellung Beschlussfähigkeit\nBericht Obman
 n\nBericht Obmann Stellvertreter\nBericht Kassier\nBericht der Kassaprüfer
  und Entlastung des Vorstandes\nNewahl des gesamten Vorstandes\nTermine un
 d Vorhaben für 2019\nBeratung über eingebrachte Anträge und Ideen\nAllfäll
 iges
DTSTART:20200110T170000Z
DTEND:20200110T210000Z
GEO:00;0
LOCATION:Gasthaus Fink Edelstauden
ORGANIZER:
SEQUENCE:1
SUMMARY:Jahreshauptversammlung 2020
TRANSP:OPAQUE
URL:https://www.bonsaiclub-steiermark.at/index.php/events/eventarchiv/75-ja
 hreshauptversammlung-3/2020-01-10-18-00
END:VEVENT
END:VCALENDAR
