BEGIN:VCALENDAR
VERSION:2.0
PRODID:-//www.bonsaiclub-steiermark.at//NONSGML kigkonsult.se iCalcreator 2.41.92//
CALSCALE:GREGORIAN
METHOD:PUBLISH
UID:65363632-6138-4063-b864-353065356666
X-WR-CALNAME:iCagenda
X-WR-CALDESC:Event Management Extension for Joomla!
X-WR-RELCALID:3E26604A-50F4-4449-8B3E-E4F4932D05B5
X-WR-TIMEZONE:Europe/Vienna
BEGIN:VTIMEZONE
TZID:Europe/Vienna
TZUNTIL:20210328T010000Z
BEGIN:STANDARD
TZNAME:CET
DTSTART:20181028T030000
TZOFFSETFROM:+0200
TZOFFSETTO:+0100
RDATE:20191027T030000
RDATE:20201025T030000
END:STANDARD
BEGIN:DAYLIGHT
TZNAME:CEST
DTSTART:20190331T020000
TZOFFSETFROM:+0100
TZOFFSETTO:+0200
RDATE:20200329T020000
END:DAYLIGHT
END:VTIMEZONE
BEGIN:VEVENT
UID:37653738-3966-4763-b931-353438656439
DTSTAMP:20260424T104645Z
CATEGORIES:Workshop
CLASS:PUBLIC
DESCRIPTION;ALTREP="CID:<FFFF__=0ABBE548DFE235B58f9e8a93d@coffeebean.com>":
 Kusamono-Workshop mit Young Choe13. Juli 2019 bzw. 14. Juli 2019\, 9:00-17
 :00\nSchloss Wiespach\, Hallein\, http://www.schloss-wiespach.at/Anmeldung
  unter der E-Mailadresse frizz.baier@gmail.com\nDer eintägige Kusamono-Wor
 kshop findet am 13. Juli bzw. am 14. Juli im Garten des Schlosses Wiespach
  in Hallein statt. Die Kosten für einen Tag betragen € 100 (€75 Workshop p
 lus €25 Pflanzen und Substrat). Die Pflanzen für den Workshop werden bei d
 er Staudengärtnerei Sarastro für diesen Workshop ausgewählt. Der Preis bei
 nhaltet keine Schalen. Diese können zum Workshop mitgebracht werden\, weit
 ers steht eine Auswahl von Schalen beim Workshop zur Verfügung und kann er
 worben werden.\n\nYoung Choe\nGeboren in Seoul\, SüdkoreaStudium Kalligrap
 hie und Tuschmalerei in KoreaStudium Hortikultur an der University Marylan
 dZusammenarbeit mit National Bonsai &amp\; Penjing Museum\, Washington\, D
 .C.Kusamono-Ausbildung bei Keiko Yamane in JapanArbeitet für das US Nation
 al Arboretum als Spezialistin für Pflanzenvermehrung\nYoung Choe gilt welt
 weit als eine der angesehensten Kusamono-KünstlerInnen. Erstmals zeigte si
 e in Europa ihr Können bei einer Kusamono-Demonstration und einem Workshop
  im Rahmen des Bonsai- und Kusamonofestes in Hallein 2017.
DTSTART:20190714T070000Z
DTEND:20190714T150000Z
GEO:00;0
LOCATION:Schloss Wiespach\, Hallein
ORGANIZER;CN=:mailto:frizz.baier@gmail.com
SEQUENCE:1
SUMMARY:Kusamono-Workshop mit Young Choe
TRANSP:OPAQUE
URL:https://www.bonsaiclub-steiermark.at/index.php/events/eventarchiv/73-ku
 samono-workshop-mit-young-choe-2
END:VEVENT
END:VCALENDAR
