BEGIN:VCALENDAR
VERSION:2.0
PRODID:-//www.bonsaiclub-steiermark.at//NONSGML kigkonsult.se iCalcreator 2.41.92//
CALSCALE:GREGORIAN
METHOD:PUBLISH
UID:35363464-6335-4033-b137-316239623530
X-WR-CALNAME:iCagenda
X-WR-CALDESC:Event Management Extension for Joomla!
X-WR-RELCALID:3E26604A-50F4-4449-8B3E-E4F4932D05B5
X-WR-TIMEZONE:Europe/Vienna
BEGIN:VTIMEZONE
TZID:Europe/Vienna
TZUNTIL:20201025T010000Z
BEGIN:STANDARD
TZNAME:CET
DTSTART:20181028T030000
TZOFFSETFROM:+0200
TZOFFSETTO:+0100
RDATE:20191027T030000
END:STANDARD
BEGIN:DAYLIGHT
TZNAME:CEST
DTSTART:20180325T020000
TZOFFSETFROM:+0100
TZOFFSETTO:+0200
RDATE:20190331T020000
RDATE:20200329T020000
END:DAYLIGHT
END:VTIMEZONE
BEGIN:VEVENT
UID:61663231-3866-4365-a138-643834376433
DTSTAMP:20260424T093243Z
CATEGORIES:Clubabend
CLASS:PUBLIC
DESCRIPTION;ALTREP="CID:<FFFF__=0ABBE548DFE235B58f9e8a93d@coffeebean.com>":
 mit anschließender Neuwahl\nTagesordnung:\n\nBegrüßung\nFeststellung Besch
 lussfähigkeit\nBericht Obmann\nBericht Obmann Stellvertreter\nBericht Kass
 ier\nBericht der Kassaprüfer und Entlastung des Vorstandes\nNewahl des ges
 amten Vorstandes\nTermine und Vorhaben für 2019\nBeratung über eingebracht
 e Anträge und Ideen\nAllfälliges
DTSTART:20190111T170000Z
DTEND:20190111T170000Z
GEO:00;0
LOCATION:Gasthaus Fink Edelstauden
ORGANIZER:
SEQUENCE:1
SUMMARY:Jahreshauptversammlung
TRANSP:OPAQUE
URL:https://www.bonsaiclub-steiermark.at/index.php/events/eventarchiv/53-ja
 hreshauptversammlung/2019-01-11-18-00
END:VEVENT
END:VCALENDAR
