BEGIN:VCALENDAR
VERSION:2.0
PRODID:-//www.bonsaiclub-steiermark.at//NONSGML kigkonsult.se iCalcreator 2.41.92//
CALSCALE:GREGORIAN
METHOD:PUBLISH
UID:33353662-6336-4439-a137-326138663439
X-WR-CALNAME:iCagenda
X-WR-CALDESC:Event Management Extension for Joomla!
X-WR-RELCALID:3E26604A-50F4-4449-8B3E-E4F4932D05B5
X-WR-TIMEZONE:Europe/Vienna
BEGIN:VTIMEZONE
TZID:Europe/Vienna
TZUNTIL:20200329T010000Z
BEGIN:STANDARD
TZNAME:CET
DTSTART:20171029T030000
TZOFFSETFROM:+0200
TZOFFSETTO:+0100
RDATE:20181028T030000
RDATE:20191027T030000
END:STANDARD
BEGIN:DAYLIGHT
TZNAME:CEST
DTSTART:20180325T020000
TZOFFSETFROM:+0100
TZOFFSETTO:+0200
RDATE:20190331T020000
END:DAYLIGHT
END:VTIMEZONE
BEGIN:VEVENT
UID:33626134-3438-4165-b865-646538656138
DTSTAMP:20260420T190351Z
CATEGORIES:Ausstellung
CLASS:PUBLIC
DESCRIPTION:
DTSTART:20180519T080000Z
DTEND:20180520T150000Z
GEO:00;0
LOCATION:Športna Dvorana Medvode
ORGANIZER:
SEQUENCE:1
SUMMARY:VIII. International Bonsai Exhibition Slowenien
TRANSP:OPAQUE
URL:https://www.bonsaiclub-steiermark.at/index.php/events/eventarchiv/51-vi
 ii-international-bonsai-exhibition-slowenien
END:VEVENT
END:VCALENDAR
