BEGIN:VCALENDAR
VERSION:2.0
PRODID:-//www.bonsaiclub-steiermark.at//NONSGML kigkonsult.se iCalcreator 2.41.92//
CALSCALE:GREGORIAN
METHOD:PUBLISH
UID:64616466-6538-4538-b936-383732316162
X-WR-CALNAME:iCagenda
X-WR-CALDESC:Event Management Extension for Joomla!
X-WR-RELCALID:3E26604A-50F4-4449-8B3E-E4F4932D05B5
X-WR-TIMEZONE:Europe/Vienna
BEGIN:VTIMEZONE
TZID:Europe/Vienna
TZUNTIL:20190331T010000Z
BEGIN:STANDARD
TZNAME:CET
DTSTART:20161030T030000
TZOFFSETFROM:+0200
TZOFFSETTO:+0100
RDATE:20171029T030000
RDATE:20181028T030000
END:STANDARD
BEGIN:DAYLIGHT
TZNAME:CEST
DTSTART:20170326T020000
TZOFFSETFROM:+0100
TZOFFSETTO:+0200
RDATE:20180325T020000
END:DAYLIGHT
END:VTIMEZONE
BEGIN:VEVENT
UID:30626263-3530-4939-b931-316134343962
DTSTAMP:20260424T081708Z
CATEGORIES:Ausstellung
CLASS:PUBLIC
DESCRIPTION:
DTSTART:20170603T070000Z
DTEND:20170604T160000Z
GEO:00;0
LOCATION:Hallein Salzburg
ORGANIZER:
SEQUENCE:1
SUMMARY:Bonsaiausstellung in Hallein Salzburg
TRANSP:OPAQUE
URL:https://www.bonsaiclub-steiermark.at/index.php/events/eventarchiv/34-bo
 nsaiausstellung-in-hallein-salzburg
END:VEVENT
END:VCALENDAR
