BEGIN:VCALENDAR
VERSION:2.0
PRODID:-//www.bonsaiclub-steiermark.at//NONSGML kigkonsult.se iCalcreator 2.41.92//
CALSCALE:GREGORIAN
METHOD:PUBLISH
UID:64663732-3361-4566-a665-643836383730
X-WR-CALNAME:iCagenda
X-WR-CALDESC:Event Management Extension for Joomla!
X-WR-RELCALID:3E26604A-50F4-4449-8B3E-E4F4932D05B5
X-WR-TIMEZONE:Europe/Vienna
BEGIN:VTIMEZONE
TZID:Europe/Vienna
TZUNTIL:20181028T010000Z
BEGIN:STANDARD
TZNAME:CET
DTSTART:20151025T030000
TZOFFSETFROM:+0200
TZOFFSETTO:+0100
RDATE:20161030T030000
RDATE:20171029T030000
END:STANDARD
BEGIN:DAYLIGHT
TZNAME:CEST
DTSTART:20160327T020000
TZOFFSETFROM:+0100
TZOFFSETTO:+0200
RDATE:20170326T020000
RDATE:20180325T020000
END:DAYLIGHT
END:VTIMEZONE
BEGIN:VEVENT
UID:32663564-3032-4736-b131-616265326565
DTSTAMP:20260424T123712Z
CATEGORIES:Ausflug
CLASS:PUBLIC
DESCRIPTION:
DTSTART:20160924T060000Z
DTEND:20160924T160000Z
GEO:00;0
LOCATION:
ORGANIZER:
SEQUENCE:1
SUMMARY:Ausflug zur Slowenische Bonsaiausstellung
TRANSP:OPAQUE
URL:https://www.bonsaiclub-steiermark.at/index.php/events/eventarchiv/17-au
 sflug-zur-slowenische-bonsaiausstellung
END:VEVENT
END:VCALENDAR
